BEGIN:VCALENDAR
VERSION:2.0
PRODID:-//Saalfelden-Leogang.com//NONSGML kigkonsult.se iCalcreator 2.22.1/
 /EN
METHOD:PUBLISH
X-WR-CALNAME;LANGUAGE=en:Saalfelden-Leogang.com
X-WR-CALDESC;LANGUAGE=en:Saalfelden-Leogang.com
X-WR-TIMEZONE;LANGUAGE=en:Europe/Berlin
BEGIN:VEVENT
UID:20260422T180707CEST-6448Tvxmlw@Saalfelden-Leogang.com
DTSTAMP:20260422T160707Z
DESCRIPTION;LANGUAGE=en:How does a festival actually work behind the scenes
 ? Who makes sure that the sound is right and the lights come on at the rig
 ht moment? Our free “Behind the Beats” tour gives children and young peopl
 e exciting insights into the world of jazz festivals.\n\n\n\nMeeting point
 : Saalfelden Tourist Office\n\nTime: 12:00 p.m.\n\nParticipation is free o
 f charge\, no registration required.
DTSTART:20250823T100000Z
DTEND:20250823T113000Z
LOCATION;LANGUAGE=en:Tourismusverband Saalfelden
SUMMARY;LANGUAGE=en:Behind the Beats – Führung für Kinder & Jugendliche
END:VEVENT
END:VCALENDAR
